Package: unifiedWMWqPCR Version: 1.44.0 Command: rm -rf unifiedWMWqPCR.buildbin-libdir && mkdir unifiedWMWqPCR.buildbin-libdir && E:\biocbuild\bbs-3.21-bioc\R\bin\R.exe CMD INSTALL --build --library=unifiedWMWqPCR.buildbin-libdir unifiedWMWqPCR_1.44.0.tar.gz StartedAt: 2025-08-15 10:32:48 -0400 (Fri, 15 Aug 2025) EndedAt: 2025-08-15 10:34:11 -0400 (Fri, 15 Aug 2025) EllapsedTime: 83.2 seconds RetCode: 0 Status: OK PackageFile: unifiedWMWqPCR_1.44.0.zip PackageFileSize: 739 KiB