Package: unifiedWMWqPCR Version: 1.46.0 Command: /home/biocbuild/bbs-3.22-bioc/R/bin/R CMD INSTALL unifiedWMWqPCR StartedAt: 2025-11-11 15:16:00 -0500 (Tue, 11 Nov 2025) EndedAt: 2025-11-11 15:16:05 -0500 (Tue, 11 Nov 2025) EllapsedTime: 4.4 seconds RetCode: 0 Status: OK