Package: unifiedWMWqPCR Version: 1.44.0 Command: /Library/Frameworks/R.framework/Resources/bin/R CMD INSTALL unifiedWMWqPCR StartedAt: 2025-10-09 15:18:37 -0400 (Thu, 09 Oct 2025) EndedAt: 2025-10-09 15:18:47 -0400 (Thu, 09 Oct 2025) EllapsedTime: 9.7 seconds RetCode: 0 Status: OK