Package: unifiedWMWqPCR Version: 1.44.0 Command: rm -rf unifiedWMWqPCR.buildbin-libdir && mkdir unifiedWMWqPCR.buildbin-libdir && /Users/biocbuild/BBS/utils/build-universal.sh unifiedWMWqPCR_1.44.0.tar.gz /Library/Frameworks/R.framework/Resources/bin/R unifiedWMWqPCR.buildbin-libdir StartedAt: 2025-10-10 15:01:50 -0400 (Fri, 10 Oct 2025) EndedAt: 2025-10-10 15:02:05 -0400 (Fri, 10 Oct 2025) EllapsedTime: 14.4 seconds RetCode: 0 Status: OK PackageFile: unifiedWMWqPCR_1.44.0.tgz PackageFileSize: 733.1 KiB