Package: unifiedWMWqPCR Version: 1.44.0 Maintainer: Joris Meys MaintainerEmail: Joris.Meys at UGent.be git_url: https://git.bioconductor.org/packages/unifiedWMWqPCR git_branch: RELEASE_3_21 git_last_commit: 439a842 git_last_commit_date: 2025-04-15 10:29:00 -0400 (Tue, 15 Apr 2025)