Package: uncoverappLib Version: 1.20.0 Command: /home/biocbuild/R/R/bin/R CMD INSTALL uncoverappLib StartedAt: 2025-11-13 22:09:50 -0000 (Thu, 13 Nov 2025) EndedAt: 2025-11-13 22:11:04 -0000 (Thu, 13 Nov 2025) EllapsedTime: 74.3 seconds RetCode: 0 Status: OK