Package: uncoverappLib Version: 1.20.0 Command: /home/biocbuild/bbs-3.22-bioc/R/bin/R CMD INSTALL uncoverappLib StartedAt: 2025-11-11 16:04:56 -0500 (Tue, 11 Nov 2025) EndedAt: 2025-11-11 16:05:55 -0500 (Tue, 11 Nov 2025) EllapsedTime: 58.8 seconds RetCode: 0 Status: OK