Package: uncoverappLib Version: 1.20.0 Command: /home/biocbuild/bbs-3.22-bioc/R/bin/R CMD check --install=check:uncoverappLib.install-out.txt --library=/home/biocbuild/bbs-3.22-bioc/R/site-library --timings uncoverappLib_1.20.0.tar.gz StartedAt: 2025-11-12 05:15:43 -0500 (Wed, 12 Nov 2025) EndedAt: 2025-11-12 05:22:37 -0500 (Wed, 12 Nov 2025) EllapsedTime: 413.4 seconds RetCode: 0 Status: OK CheckDir: uncoverappLib.Rcheck Warnings: 0