Package: uncoverappLib Version: 1.18.0 Command: /home/biocbuild/bbs-3.21-bioc/R/bin/R CMD INSTALL uncoverappLib StartedAt: 2025-10-05 15:59:07 -0400 (Sun, 05 Oct 2025) EndedAt: 2025-10-05 16:00:06 -0400 (Sun, 05 Oct 2025) EllapsedTime: 58.8 seconds RetCode: 0 Status: OK