Package: uncoverappLib Version: 1.18.0 Command: /home/biocbuild/bbs-3.21-bioc/R/bin/R CMD build --keep-empty-dirs --no-resave-data uncoverappLib StartedAt: 2025-10-05 20:27:55 -0400 (Sun, 05 Oct 2025) EndedAt: 2025-10-05 20:29:12 -0400 (Sun, 05 Oct 2025) EllapsedTime: 77.1 seconds RetCode: 0 Status: OK PackageFile: uncoverappLib_1.18.0.tar.gz PackageFileSize: 3.43 MiB