Package: uncoverappLib Version: 1.18.0 Command: /Library/Frameworks/R.framework/Resources/bin/R CMD INSTALL uncoverappLib StartedAt: 2025-10-13 16:48:58 -0400 (Mon, 13 Oct 2025) EndedAt: 2025-10-13 16:50:56 -0400 (Mon, 13 Oct 2025) EllapsedTime: 117.7 seconds RetCode: 0 Status: OK