Package: uncoverappLib Version: 1.18.0 Command: /Library/Frameworks/R.framework/Resources/bin/R CMD build --keep-empty-dirs --no-resave-data uncoverappLib StartedAt: 2025-10-13 23:26:14 -0400 (Mon, 13 Oct 2025) EndedAt: 2025-10-13 23:29:00 -0400 (Mon, 13 Oct 2025) EllapsedTime: 165.2 seconds RetCode: 0 Status: OK PackageFile: uncoverappLib_1.18.0.tar.gz PackageFileSize: 3.43 MiB