Package: uncoverappLib Version: 1.18.0 Command: rm -rf uncoverappLib.buildbin-libdir && mkdir uncoverappLib.buildbin-libdir && /Users/biocbuild/BBS/utils/build-universal.sh uncoverappLib_1.18.0.tar.gz /Library/Frameworks/R.framework/Resources/bin/R uncoverappLib.buildbin-libdir StartedAt: 2025-10-14 15:01:14 -0400 (Tue, 14 Oct 2025) EndedAt: 2025-10-14 15:03:44 -0400 (Tue, 14 Oct 2025) EllapsedTime: 149.2 seconds RetCode: 0 Status: OK PackageFile: uncoverappLib_1.18.0.tgz PackageFileSize: 2.832 MiB