Package: uncoverappLib Version: 1.18.0 Command: /Library/Frameworks/R.framework/Resources/bin/R CMD INSTALL uncoverappLib StartedAt: 2025-10-02 18:35:27 -0400 (Thu, 02 Oct 2025) EndedAt: 2025-10-02 18:36:39 -0400 (Thu, 02 Oct 2025) EllapsedTime: 72.1 seconds RetCode: 0 Status: OK