Package: uncoverappLib Version: 1.18.0 Command: rm -rf uncoverappLib.buildbin-libdir && mkdir uncoverappLib.buildbin-libdir && /Users/biocbuild/BBS/utils/build-universal.sh uncoverappLib_1.18.0.tar.gz /Library/Frameworks/R.framework/Resources/bin/R uncoverappLib.buildbin-libdir StartedAt: 2025-10-04 20:25:54 -0400 (Sat, 04 Oct 2025) EndedAt: 2025-10-04 20:27:11 -0400 (Sat, 04 Oct 2025) EllapsedTime: 76.7 seconds RetCode: 0 Status: OK PackageFile: uncoverappLib_1.18.0.tgz PackageFileSize: 2.833 MiB