Package: uSORT Version: 1.36.0 Command: /home/biocbuild/bbs-3.22-bioc/R/bin/R CMD INSTALL uSORT StartedAt: 2025-11-17 17:14:33 -0500 (Mon, 17 Nov 2025) EndedAt: 2025-11-17 17:14:52 -0500 (Mon, 17 Nov 2025) EllapsedTime: 19.7 seconds RetCode: 0 Status: OK