Package: uSORT Version: 1.36.0 Command: /home/biocbuild/bbs-3.22-bioc/R/bin/R CMD build --keep-empty-dirs --no-resave-data --md5 uSORT StartedAt: 2025-11-18 00:08:34 -0500 (Tue, 18 Nov 2025) EndedAt: 2025-11-18 00:09:04 -0500 (Tue, 18 Nov 2025) EllapsedTime: 30.0 seconds RetCode: 0 Status: OK PackageFile: uSORT_1.36.0.tar.gz PackageFileSize: 2.816 MiB