Package: twoddpcr Version: 1.34.0 Command: /home/biocbuild/bbs-3.22-bioc/R/bin/R CMD INSTALL twoddpcr StartedAt: 2025-11-13 15:12:33 -0500 (Thu, 13 Nov 2025) EndedAt: 2025-11-13 15:12:44 -0500 (Thu, 13 Nov 2025) EllapsedTime: 11.1 seconds RetCode: 0 Status: OK