Package: twoddpcr Version: 1.34.0 Command: /home/biocbuild/bbs-3.22-bioc/R/bin/R CMD build --keep-empty-dirs --no-resave-data --md5 twoddpcr StartedAt: 2025-11-13 20:45:00 -0500 (Thu, 13 Nov 2025) EndedAt: 2025-11-13 20:47:26 -0500 (Thu, 13 Nov 2025) EllapsedTime: 146.1 seconds RetCode: 0 Status: OK PackageFile: twoddpcr_1.34.0.tar.gz PackageFileSize: 3.826 MiB