Package: twilight Version: 1.86.0 Command: /home/biocbuild/bbs-3.22-bioc/R/bin/R CMD INSTALL twilight StartedAt: 2025-11-14 15:14:03 -0500 (Fri, 14 Nov 2025) EndedAt: 2025-11-14 15:14:11 -0500 (Fri, 14 Nov 2025) EllapsedTime: 8.7 seconds RetCode: 0 Status: OK