Package: twilight Version: 1.86.0 Command: /home/biocbuild/bbs-3.22-bioc/R/bin/R CMD build --keep-empty-dirs --no-resave-data --md5 twilight StartedAt: 2025-11-14 20:45:55 -0500 (Fri, 14 Nov 2025) EndedAt: 2025-11-14 20:47:05 -0500 (Fri, 14 Nov 2025) EllapsedTime: 70.0 seconds RetCode: 0 Status: OK PackageFile: twilight_1.86.0.tar.gz PackageFileSize: 1.197 MiB