Package: tweeDEseq Version: 1.56.0 Command: /home/biocbuild/bbs-3.22-bioc/R/bin/R CMD build --keep-empty-dirs --no-resave-data --md5 tweeDEseq StartedAt: 2025-11-11 20:46:40 -0500 (Tue, 11 Nov 2025) EndedAt: 2025-11-11 20:56:21 -0500 (Tue, 11 Nov 2025) EllapsedTime: 581.5 seconds RetCode: 0 Status: OK PackageFile: tweeDEseq_1.56.0.tar.gz PackageFileSize: 236.3 KiB