Package: tweeDEseq Version: 1.56.0 Command: /Library/Frameworks/R.framework/Resources/bin/R CMD build --keep-empty-dirs --no-resave-data tweeDEseq StartedAt: 2025-11-03 19:10:03 -0500 (Mon, 03 Nov 2025) EndedAt: 2025-11-03 19:18:41 -0500 (Mon, 03 Nov 2025) EllapsedTime: 518.2 seconds RetCode: 0 Status: OK PackageFile: tweeDEseq_1.56.0.tar.gz PackageFileSize: 231.9 KiB