Package: tweeDEseq Version: 1.54.0 Command: /home/biocbuild/R/R/bin/R CMD build --keep-empty-dirs --no-resave-data tweeDEseq StartedAt: 2025-10-14 05:32:57 -0000 (Tue, 14 Oct 2025) EndedAt: 2025-10-14 05:45:22 -0000 (Tue, 14 Oct 2025) EllapsedTime: 744.7 seconds RetCode: 0 Status: OK PackageFile: tweeDEseq_1.54.0.tar.gz PackageFileSize: 227.5 KiB