Package: tweeDEseq Version: 1.54.0 Command: /Library/Frameworks/R.framework/Resources/bin/R CMD build --keep-empty-dirs --no-resave-data tweeDEseq StartedAt: 2025-04-21 17:55:45 -0400 (Mon, 21 Apr 2025) EndedAt: 2025-04-21 18:03:25 -0400 (Mon, 21 Apr 2025) EllapsedTime: 460.6 seconds RetCode: 0 Status: OK PackageFile: tweeDEseq_1.54.0.tar.gz PackageFileSize: 233.4 KiB