Package: tripr Version: 1.16.0 Command: /home/biocbuild/bbs-3.22-bioc/R/bin/R CMD INSTALL tripr StartedAt: 2025-11-11 15:14:04 -0500 (Tue, 11 Nov 2025) EndedAt: 2025-11-11 15:14:44 -0500 (Tue, 11 Nov 2025) EllapsedTime: 39.2 seconds RetCode: 0 Status: OK