Package: tripr Version: 1.16.0 Command: /home/biocbuild/bbs-3.22-bioc/R/bin/R CMD check --install=check:tripr.install-out.txt --library=/home/biocbuild/bbs-3.22-bioc/R/site-library --timings tripr_1.16.0.tar.gz StartedAt: 2025-11-18 09:37:28 -0500 (Tue, 18 Nov 2025) EndedAt: 2025-11-18 09:40:34 -0500 (Tue, 18 Nov 2025) EllapsedTime: 186.2 seconds RetCode: 0 Status: WARNINGS CheckDir: tripr.Rcheck Warnings: 1