Package: tripr Version: 1.16.0 Command: /home/biocbuild/bbs-3.22-bioc/R/bin/R CMD build --keep-empty-dirs --no-resave-data --md5 tripr StartedAt: 2025-11-11 20:45:38 -0500 (Tue, 11 Nov 2025) EndedAt: 2025-11-11 20:46:26 -0500 (Tue, 11 Nov 2025) EllapsedTime: 48.0 seconds RetCode: 0 Status: OK PackageFile: tripr_1.16.0.tar.gz PackageFileSize: 2.941 MiB