Package: tripr Version: 1.14.0 Command: /home/biocbuild/R/R/bin/R CMD build --keep-empty-dirs --no-resave-data tripr StartedAt: 2025-10-14 05:31:34 -0000 (Tue, 14 Oct 2025) EndedAt: 2025-10-14 05:32:42 -0000 (Tue, 14 Oct 2025) EllapsedTime: 68.1 seconds RetCode: 0 Status: OK PackageFile: tripr_1.14.0.tar.gz PackageFileSize: 3.002 MiB