Package: tripr Version: 1.14.0 Command: rm -rf tripr.buildbin-libdir && mkdir tripr.buildbin-libdir && /Users/biocbuild/BBS/utils/build-universal.sh tripr_1.14.0.tar.gz /Library/Frameworks/R.framework/Resources/bin/R tripr.buildbin-libdir StartedAt: 2025-04-21 22:55:57 -0400 (Mon, 21 Apr 2025) EndedAt: 2025-04-21 22:56:28 -0400 (Mon, 21 Apr 2025) EllapsedTime: 31.7 seconds RetCode: 0 Status: OK PackageFile: tripr_1.14.0.tgz PackageFileSize: 4.088 MiB