Package: triplex Version: 1.50.0 Command: /home/biocbuild/bbs-3.22-bioc/R/bin/R CMD build --keep-empty-dirs --no-resave-data --md5 triplex StartedAt: 2025-11-11 20:45:37 -0500 (Tue, 11 Nov 2025) EndedAt: 2025-11-11 20:46:07 -0500 (Tue, 11 Nov 2025) EllapsedTime: 30.0 seconds RetCode: 0 Status: OK PackageFile: triplex_1.50.0.tar.gz PackageFileSize: 601.8 KiB