Package: triplex Version: 1.50.0 Command: /Library/Frameworks/R.framework/Resources/bin/R CMD build --keep-empty-dirs --no-resave-data triplex StartedAt: 2025-10-31 18:06:34 -0400 (Fri, 31 Oct 2025) EndedAt: 2025-10-31 18:06:48 -0400 (Fri, 31 Oct 2025) EllapsedTime: 14.2 seconds RetCode: 0 Status: OK PackageFile: triplex_1.50.0.tar.gz PackageFileSize: 600.2 KiB