Package: trio Version: 3.48.0 Command: /home/biocbuild/bbs-3.22-bioc/R/bin/R CMD INSTALL trio StartedAt: 2025-11-13 15:14:50 -0500 (Thu, 13 Nov 2025) EndedAt: 2025-11-13 15:15:13 -0500 (Thu, 13 Nov 2025) EllapsedTime: 23.2 seconds RetCode: 0 Status: OK