Package: trio Version: 3.48.0 Command: /home/biocbuild/bbs-3.22-bioc/R/bin/R CMD build --keep-empty-dirs --no-resave-data --md5 trio StartedAt: 2025-11-13 20:43:40 -0500 (Thu, 13 Nov 2025) EndedAt: 2025-11-13 20:44:29 -0500 (Thu, 13 Nov 2025) EllapsedTime: 49.0 seconds RetCode: 0 Status: OK PackageFile: trio_3.48.0.tar.gz PackageFileSize: 756 KiB