Package: trigger Version: 1.54.0 Command: /home/biocbuild/bbs-3.21-bioc/R/bin/R CMD INSTALL trigger StartedAt: 2025-09-28 15:43:02 -0400 (Sun, 28 Sep 2025) EndedAt: 2025-09-28 15:43:03 -0400 (Sun, 28 Sep 2025) EllapsedTime: 1.0 seconds RetCode: 1 Status: ERROR