Package: trigger Version: 1.54.0 Command: /Library/Frameworks/R.framework/Resources/bin/R CMD INSTALL trigger StartedAt: 2025-10-13 15:51:44 -0400 (Mon, 13 Oct 2025) EndedAt: 2025-10-13 15:51:45 -0400 (Mon, 13 Oct 2025) EllapsedTime: 1.1 seconds RetCode: 1 Status: ERROR