Package: trigger Version: 1.54.0 Command: /home/biocbuild/R/R/bin/R CMD INSTALL trigger StartedAt: 2025-09-25 20:44:28 -0000 (Thu, 25 Sep 2025) EndedAt: 2025-09-25 20:44:29 -0000 (Thu, 25 Sep 2025) EllapsedTime: 1.1 seconds RetCode: 1 Status: ERROR