Package: trigger Version: 1.54.0 Command: /Library/Frameworks/R.framework/Resources/bin/R CMD INSTALL trigger StartedAt: 2025-09-29 15:56:07 -0400 (Mon, 29 Sep 2025) EndedAt: 2025-09-29 15:56:08 -0400 (Mon, 29 Sep 2025) EllapsedTime: 1.2 seconds RetCode: 1 Status: ERROR