Package: trigger Version: 1.54.0 Command: /Library/Frameworks/R.framework/Resources/bin/R CMD build --keep-empty-dirs --no-resave-data trigger StartedAt: 2025-09-30 11:21:08 -0400 (Tue, 30 Sep 2025) EndedAt: 2025-09-30 11:21:09 -0400 (Tue, 30 Sep 2025) EllapsedTime: 1.2 seconds RetCode: 1 Status: ERROR PackageFile: None PackageFileSize: NA