Package: tricycle Version: 1.18.0 Command: /home/biocbuild/bbs-3.22-bioc/R/bin/R CMD INSTALL tricycle StartedAt: 2025-11-06 15:57:15 -0500 (Thu, 06 Nov 2025) EndedAt: 2025-11-06 15:57:51 -0500 (Thu, 06 Nov 2025) EllapsedTime: 35.6 seconds RetCode: 0 Status: OK