Package: treekoR Version: 1.18.0 Command: /home/biocbuild/R/R/bin/R CMD INSTALL treekoR StartedAt: 2025-11-10 21:30:31 -0000 (Mon, 10 Nov 2025) EndedAt: 2025-11-10 21:31:32 -0000 (Mon, 10 Nov 2025) EllapsedTime: 60.2 seconds RetCode: 0 Status: OK