Package: treekoR Version: 1.18.0 Command: /home/biocbuild/bbs-3.22-bioc/R/bin/R CMD check --install=check:treekoR.install-out.txt --library=/home/biocbuild/bbs-3.22-bioc/R/site-library --timings treekoR_1.18.0.tar.gz StartedAt: 2025-11-12 05:08:59 -0500 (Wed, 12 Nov 2025) EndedAt: 2025-11-12 05:14:29 -0500 (Wed, 12 Nov 2025) EllapsedTime: 330.3 seconds RetCode: 0 Status: OK CheckDir: treekoR.Rcheck Warnings: 0