Package: treekoR Version: 1.16.0 Command: /home/biocbuild/bbs-3.21-bioc/R/bin/R CMD check --install=check:treekoR.install-out.txt --library=/home/biocbuild/bbs-3.21-bioc/R/site-library --timings treekoR_1.16.0.tar.gz StartedAt: 2025-10-16 04:33:59 -0400 (Thu, 16 Oct 2025) EndedAt: 2025-10-16 04:39:26 -0400 (Thu, 16 Oct 2025) EllapsedTime: 327.4 seconds RetCode: 1 Status: ERROR CheckDir: treekoR.Rcheck Warnings: NA