Package: treekoR Version: 1.16.0 Command: /home/biocbuild/R/R/bin/R CMD check --install=check:treekoR.install-out.txt --library=/home/biocbuild/R/R/site-library --no-vignettes --timings treekoR_1.16.0.tar.gz StartedAt: 2025-10-10 15:02:01 -0000 (Fri, 10 Oct 2025) EndedAt: 2025-10-10 15:09:04 -0000 (Fri, 10 Oct 2025) EllapsedTime: 422.6 seconds RetCode: 1 Status: ERROR CheckDir: treekoR.Rcheck Warnings: NA