Package: treekoR Version: 1.16.0 Command: /Library/Frameworks/R.framework/Resources/bin/R CMD check --install=check:treekoR.install-out.txt --library=/Library/Frameworks/R.framework/Resources/library --no-vignettes --timings treekoR_1.16.0.tar.gz StartedAt: 2025-10-15 15:56:23 -0400 (Wed, 15 Oct 2025) EndedAt: 2025-10-15 16:02:11 -0400 (Wed, 15 Oct 2025) EllapsedTime: 348.0 seconds RetCode: 1 Status: ERROR CheckDir: treekoR.Rcheck Warnings: NA