Package: treeio Version: 1.34.0 Command: /home/biocbuild/bbs-3.22-bioc/R/bin/R CMD check --install=check:treeio.install-out.txt --library=/home/biocbuild/bbs-3.22-bioc/R/site-library --timings treeio_1.34.0.tar.gz StartedAt: 2025-11-12 05:08:59 -0500 (Wed, 12 Nov 2025) EndedAt: 2025-11-12 05:10:05 -0500 (Wed, 12 Nov 2025) EllapsedTime: 66.1 seconds RetCode: 0 Status: OK CheckDir: treeio.Rcheck Warnings: 0