Package: treeio Version: 1.34.0 Command: /home/biocbuild/bbs-3.22-bioc/R/bin/R CMD build --keep-empty-dirs --no-resave-data --md5 treeio StartedAt: 2025-11-11 20:44:39 -0500 (Tue, 11 Nov 2025) EndedAt: 2025-11-11 20:44:48 -0500 (Tue, 11 Nov 2025) EllapsedTime: 9.0 seconds RetCode: 0 Status: OK PackageFile: treeio_1.34.0.tar.gz PackageFileSize: 685.2 KiB