Package: treeio Version: 1.32.0 Command: /Library/Frameworks/R.framework/Resources/bin/R CMD build --keep-empty-dirs --no-resave-data treeio StartedAt: 2025-09-25 23:21:22 -0400 (Thu, 25 Sep 2025) EndedAt: 2025-09-25 23:21:46 -0400 (Thu, 25 Sep 2025) EllapsedTime: 23.8 seconds RetCode: 0 Status: OK PackageFile: treeio_1.32.0.tar.gz PackageFileSize: 678.9 KiB