Package: treeio Version: 1.32.0 Command: rm -rf treeio.buildbin-libdir && mkdir treeio.buildbin-libdir && /Users/biocbuild/BBS/utils/build-universal.sh treeio_1.32.0.tar.gz /Library/Frameworks/R.framework/Resources/bin/R treeio.buildbin-libdir StartedAt: 2025-09-26 16:17:00 -0400 (Fri, 26 Sep 2025) EndedAt: 2025-09-26 16:17:19 -0400 (Fri, 26 Sep 2025) EllapsedTime: 18.7 seconds RetCode: 0 Status: OK PackageFile: treeio_1.32.0.tgz PackageFileSize: 911.3 KiB