Package: treeio Version: 1.32.0 Command: /home/biocbuild/R/R/bin/R CMD INSTALL treeio StartedAt: 2025-09-25 20:21:11 -0000 (Thu, 25 Sep 2025) EndedAt: 2025-09-25 20:21:22 -0000 (Thu, 25 Sep 2025) EllapsedTime: 10.6 seconds RetCode: 0 Status: OK